BEGIN:VCALENDAR
VERSION:2.0
PRODID:-//wp-events-plugin.com//6.6.3//EN
TZID:Europe/Stockholm
X-WR-TIMEZONE:Europe/Stockholm
BEGIN:VEVENT
UID:42@testar.vasterastradgard.se.vasterastradgard.se
DTSTART:20240129T170000Z
DTEND:20240129T193000Z
DTSTAMP:20240105T104540Z
URL:https://testar.vasterastradgard.se.vasterastradgard.se/Aktiviteter/vin
 termote/
SUMMARY:Vintermöte – Trädgårdsglädje – en rundtur i mästerliga tr
 ädgårdar.
DESCRIPTION:Att vistas i en trädgård är detsamma som glädje\, skönhet\
 , hälsa och mat. Bella Linde\, journalist och författare\, utgår frå
 n två av sina böcker när hon berättar om möten med ett antal mästerl
 iga odlare och deras fantastiska trädgårdar. Följ med på en trädgård
 svandring till en koloniträdgård\, en förnämlig slottsträdgård\, en 
 lundträdgård med frodig grönska och en balkong där krukorna är fyllda
  av både grönsaker och prydnadsväxter. Dessutom en havsnära trädgård
 \, en återuppväckt handelsträdgård och en trädgård där odlaren inte
  har använt spade på över fyrtio år.\n\nOBS! Nytt datum\, flyttat till
  måndagen 29 januari 2024\n\nPlats: Hörsalen\, Västerås Stadsbibliote
 k\, Biskopsgatan 2.\n\nAvgift inkl. kaffe: Medlem 50 kr\, övriga 100 kr.
 \n\nAnsvarig: Berit Karlsson 070 663 15 60
ATTACH;FMTTYPE=image/jpeg:https://media5.vasterastradgard.se/2023/10/Vinte
 rmote-720x300-2.jpg
LOCATION:Stadsbiblioteket Hörsalen\, Biskopsgatan 2\, Västerås\, Västma
 nland\, 72211\, Sverige
X-APPLE-STRUCTURED-LOCATION;VALUE=URI;X-ADDRESS=Biskopsgatan 2\, Västerås
 \, Västmanland\, 72211\, Sverige;X-APPLE-RADIUS=100;X-TITLE=Stadsbibliote
 ket Hörsalen:geo:0,0
END:VEVENT
END:VCALENDAR