BEGIN:VCALENDAR
VERSION:2.0
PRODID:-//wp-events-plugin.com//6.6.3//EN
TZID:Europe/Stockholm
X-WR-TIMEZONE:Europe/Stockholm
BEGIN:VEVENT
UID:30@testar.vasterastradgard.se.vasterastradgard.se
DTSTART:20200114T173000Z
DTEND:20200114T173000Z
DTSTAMP:20191126T140313Z
URL:https://testar.vasterastradgard.se.vasterastradgard.se/Aktiviteter/vin
 termote-tradgardsodling-under-varma-och-torra-forhallanden-2/
SUMMARY:Vintermöte - Trädgårdsodling under varma och torra förhållande
 n
DESCRIPTION:Hur skall vi tänka och agera i våra trädgårdar om trenden h
 åller i sig med varma och torra somrar? Vilka växter kan vi odla och vil
 ka bör vi undvika? Hur löser vi vattenhushållningen i trädgården? Det
 ta och många andra frågor kommer landskapsarkitekt och växtexpert Tomas
  Lagerström\, tillika vice ordförande i Riksförbundet Svensk Trädgård
  att behandla. \n\nKaffe och lotteri\n\nPlats: Hörsalen\, Västerås Stad
 sbibliotek\n\nMötet är öppet för allmänheten\n\nAvgift: Medlem 50 kr\
 , övriga 80 kr inkl. kaffe.\n\nAnsvarig: Margareta Pettersson 070 359 16 
 82
ATTACH;FMTTYPE=image/jpeg:https://media5.vasterastradgard.se/2019/08/Vinte
 rmöte.jpg
END:VEVENT
END:VCALENDAR