BEGIN:VCALENDAR
VERSION:2.0
PRODID:-//wp-events-plugin.com//6.6.3//EN
TZID:Europe/Stockholm
X-WR-TIMEZONE:Europe/Stockholm
BEGIN:VEVENT
UID:34@testar.vasterastradgard.se.vasterastradgard.se
DTSTART:20230116T173000Z
DTEND:20230116T173000Z
DTSTAMP:20221217T105138Z
URL:https://testar.vasterastradgard.se.vasterastradgard.se/Aktiviteter/vin
 termote-konsten-att-odla-som-skogen/
SUMMARY:Vintermöte – Konsten att odla som skogen
DESCRIPTION:\n\nVarför växer ogräset så mycket bättre än morötterna?
  Och hur hänger det ihop med att naturen vill skapa skog nästan överall
 t?\n\nVälkommen på ett föredrag med Philipp Weiss\, civilingenjör oc
 h diplomerad permakulturdesigner\, som berättar vad vi kan lära oss av n
 aturen för att producera bättre mat med mindre arbete\, samtidigt som vi
  gör en aktiv insats för både klimatet och den biologiska mångfalden.\
 n\nHan kommer också ta upp Malmabergs matskog som han designat för Väst
 erås stad. Den anlades hösten 2021 och planterades våren 2022.\nOBS nyt
 t datum! Flyttat till måndagen den 16 januari.\n\nAvgift inkl. kaffe: Med
 lem 50 kr\, Övriga 80 kr.\n\nAnsvarig: Berit Karlsson 070 663 15 60\n\nI
  samverkan med\n\n\n\n&nbsp\;\n\n&nbsp\;
LOCATION:Stadsbiblioteket Hörsalen\, Biskopsgatan 2\, Västerås\, Västma
 nland\, 72211\, Sverige
X-APPLE-STRUCTURED-LOCATION;VALUE=URI;X-ADDRESS=Biskopsgatan 2\, Västerås
 \, Västmanland\, 72211\, Sverige;X-APPLE-RADIUS=100;X-TITLE=Stadsbibliote
 ket Hörsalen:geo:0,0
END:VEVENT
END:VCALENDAR