BEGIN:VCALENDAR
VERSION:2.0
PRODID:-//wp-events-plugin.com//6.6.3//EN
TZID:Europe/Stockholm
X-WR-TIMEZONE:Europe/Stockholm
BEGIN:VEVENT
UID:48@testar.vasterastradgard.se.vasterastradgard.se
DTSTART:20250127T170000Z
DTEND:20250127T200000Z
DTSTAMP:20241212T140647Z
URL:https://testar.vasterastradgard.se.vasterastradgard.se/Aktiviteter/vin
 termote-en-tradgardsmastares-resa/
SUMMARY:Vintermöte - Djungeln i Häggum
DESCRIPTION:Ludvig Johansson berättar om projekt\, växter och odlande i h
 ans 20 000m2 stora och vilda trädgård\, ”Djungeln i Häggum”. Trädg
 ården är fritt inspirerad av Indiana Jones filmerna med mycket vatten\, 
 broar\, stenmurar\, miljöer och många\, många roliga och ovanliga peren
 ner\, buskar och träd.\n\nVTS bussresa augusti 2025 kommer att besöka Lu
 dvigs trädgård.\n\n&nbsp\;\n\nAvgift inkl. kaffe: Medlem 60 kr\, övriga
  100 kr.\n\nAnsvarig: Berit Karlsson 070 663 15 60\n\n&nbsp\;
ATTACH;FMTTYPE=image/jpeg:https://media5.vasterastradgard.se/2024/11/Ludvi
 g-Johansson.jpg
END:VEVENT
END:VCALENDAR