BEGIN:VCALENDAR
VERSION:2.0
PRODID:-//wp-events-plugin.com//6.6.3//EN
TZID:Europe/Stockholm
X-WR-TIMEZONE:Europe/Stockholm
BEGIN:VEVENT
UID:13@testar.vasterastradgard.se.vasterastradgard.se
DTSTART:20190518T100000Z
DTEND:20190518T150000Z
DTSTAMP:20190205T135403Z
URL:https://testar.vasterastradgard.se.vasterastradgard.se/Aktiviteter/vax
 tmarknad-pa-vallby-friluftsmuseum-torget-3/
SUMMARY:Växtmarknad på Vallby
DESCRIPTION:&nbsp\;\n\n\n\nVTS-medlemmar säljer plantor\, sticklingar\, fr
 öer\, trädgårdstillbehör etc.\n\nAlla är välkomna att handla.\n\nKon
 tant betalning (jämna pengar) eller Swish till de säljare som har.\n\nEv
 . kommer VTS-medlemmen Nore Johansson att slipa dina verktyg som sekatöre
 r\, spadar mm. Se vidare information här och i kommande nyhetsbrev.\n\nIn
 gen avgift. \n\nAnmälan för säljare senast 14 maj\, se nedan.\n\nInform
 ation till säljare finns här\n\nAnsvarig: Eva Niklasson 076 834 66 04.
ATTACH;FMTTYPE=image/jpeg:https://media5.vasterastradgard.se/2016/05/2016-
 05-21-11.29.32-1.jpg
END:VEVENT
END:VCALENDAR