BEGIN:VCALENDAR
VERSION:2.0
PRODID:-//wp-events-plugin.com//6.6.3//EN
TZID:Europe/Stockholm
X-WR-TIMEZONE:Europe/Stockholm
BEGIN:VEVENT
UID:8@testar.vasterastradgard.se.vasterastradgard.se
DTSTART:20190411T173000Z
DTEND:20190411T203000Z
DTSTAMP:20190214T112536Z
URL:https://testar.vasterastradgard.se.vasterastradgard.se/Aktiviteter/var
 mote-tradgardsmyller-att-skapa-en-insektstradgard/
SUMMARY:Vårmöte – Trädgårdsmyller – Att skapa en insektsträdgård
DESCRIPTION:&nbsp\;\n\n[gallery type="rectangular" size="medium" ids="6416\
 ,6414\,6415"]\n\nHortonom Christina Winter har medverkat i många trädgå
 rdssammanhang. Föreläsningen utgår från boken Trädgårdsmyller – in
 sekterna som hjälper dig att odla. Hon berättar om insekter som bl a hj
 älper till med pollinering och bekämpning av skadeinsekter. Det blir kon
 kreta förslag på växter som gynnar mångfalden i trädgården.\n\nKaffe
  och lotteri.\n\nPlats: Stadsbiblioteket Hörsalen.\n\nAvgift: Medlem 50 k
 r\, icke medlem 80 kr.\n\nAnsvarig: Maria Schartau 073 719 79 69
ATTACH;FMTTYPE=image/jpeg:https://media5.vasterastradgard.se/2019/01/mön
 ster-sv-tr-OKTT-webb-kopia-kopia-2-kopia.jpg
END:VEVENT
END:VCALENDAR