BEGIN:VCALENDAR
VERSION:2.0
PRODID:-//wp-events-plugin.com//6.6.3//EN
TZID:Europe/Stockholm
X-WR-TIMEZONE:Europe/Stockholm
BEGIN:VEVENT
UID:20@testar.vasterastradgard.se.vasterastradgard.se
DTSTART:20190805T170000Z
DTEND:20190805T170000Z
DTSTAMP:20190214T113005Z
URL:https://testar.vasterastradgard.se.vasterastradgard.se/Aktiviteter/tva
 -tradgardar-i-vallby/
SUMMARY:Två trädgårdar i Vallby
DESCRIPTION:Ylva och Kjell Johansson har en 1100 m²stor tomt med en hel de
 l fruktträd\, bärbuskar\, perenner och rhododendron. Det finns ett växt
 hus på 10 m². Perenner som växer för kraftigt utlokaliseras till allm
 änningen som får ett trevligare utseende. Trädgården rymmer flera utep
 latser varav en bredvid poolen. Många lustiga dekorationer finns också a
 tt beskåda.\n\n&nbsp\;\n\n&nbsp\;\n\nÄven Ann-Christine och Lasse Svenss
 ons trädgård är på 1100m². De har under de senaste 20 åren utvecklat
  sin trädgård som idag rymmer flera olika rum avdelade med häckar och g
 ångar. Det finns en damm som innehåller näckrosor och koi\, stenparti d
 är växterna växer i grus. I surjordspartierna trivs magnolior\, rhodode
 ndron och andra kalkskyende växter. Ann-Christines intresse för hosta\, 
 dagliljor och pioner syns på flera ställen i trädgården.\n\nPlats: Bå
 thusgatan 1 och Båthusgatan 2.\n\nPris: 20 kr.\n\nAnsvarig: Berit Karlsso
 n 070 663 15 60
ATTACH;FMTTYPE=image/jpeg:https://media5.vasterastradgard.se/2019/01/mön
 ster-sv-tr-OKTT-webb-kopia-kopia-2-kopia.jpg
END:VEVENT
END:VCALENDAR