BEGIN:VCALENDAR
VERSION:2.0
PRODID:-//wp-events-plugin.com//6.6.3//EN
TZID:Europe/Stockholm
X-WR-TIMEZONE:Europe/Stockholm
BEGIN:VEVENT
UID:12@testar.vasterastradgard.se.vasterastradgard.se
DTSTART:20190515T170000Z
DTEND:20190515T170000Z
DTSTAMP:20190205T115431Z
URL:https://testar.vasterastradgard.se.vasterastradgard.se/Aktiviteter/tra
 ff-for-nya-medlemmar-3/
SUMMARY:Träff för nya medlemmar
DESCRIPTION:&nbsp\;\n\n\n\n&nbsp\;\n\nVTS har till vår glädje fått nya m
 edlemmar som vi ser fram emot att få träffa.\n\nVälkommen till en träf
 f där vi kort informerar om föreningens verksamhet\, fikar och allmänt 
 pratar trädgård med varandra. Då VTS tillämpar familjemedlemskap så 
 är även maka/make/sambo välkommen. Kvällen avslutas med en kortare run
 dvandring i Svenssons trädgård.\n\nParkera längs med trottoaren på Bå
 thusgatan eller andra tvärgator i området.\n\nTa gärna buss nr 4 mot Br
 ottberga till hållplats Norra Vallby.\n\nSärskild inbjudan sänds med po
 st till berörda.\n\nAnmälan senast 8 maj\, se nedan  (så vi kan beräk
 na fika).\n\nAnsvarig\; Ann-Christine Svensson 070 746 88 86.\n\nVÄLKOMN
 A
ATTACH;FMTTYPE=image/jpeg:https://media5.vasterastradgard.se/2019/02/VTS-l
 ogga-utan-text.jpg
END:VEVENT
END:VCALENDAR