BEGIN:VCALENDAR
VERSION:2.0
PRODID:-//wp-events-plugin.com//6.6.3//EN
TZID:Europe/Stockholm
X-WR-TIMEZONE:Europe/Stockholm
BEGIN:VEVENT
UID:16@testar.vasterastradgard.se.vasterastradgard.se
DTSTART:20190602T130000Z
DTEND:20190602T160000Z
DTSTAMP:20190214T114337Z
URL:https://testar.vasterastradgard.se.vasterastradgard.se/Aktiviteter/tra
 dgardsvandring-i-hokasen/
SUMMARY:Trädgårdsvandring i Hökåsen
DESCRIPTION:Trädgårdarna besöks i valfri ordning. Här finns  Karta öv
 er trädgårdsvandring i Hökåsen\n\nPlats 1: Landisvägen 34A\, Väster
 ås.\nI denna trädgård på 960 m² bor Maria och Tobias Dubois med två 
 små barn\, en hund och några höns som alla har satt sin prägel på tr
 ädgården. Den gröna lugnande basen består av buskar och träd\, komple
 tterade med många olika perenner. Det finns berg i dagen och längs mång
 a gångar finns det hela tiden något nytt att upptäcka. Det är en till
 åtande trädgård där barnen har en egen odlingshörna.\n\nPlats 2: Isä
 lvsvägen 1A\, Västerås\nGömd bakom skyddande träd och buskar ligger M
 ona och Arne Jonassons 1200 m² stora trädgård fylld av många växter. 
 De röda bladen på bland annat blodlönn bryter av mot det gröna. Taggig
 a blad kontrasterar mot de runda. Runt dammen växer hostor\, rosor och m
 ånga andra växter. Längst bort i trädgården ligger ett lusthus som an
 vänds flitigt långt in på hösten.\n\nPlats 3: Rönnvägen 10\, Väster
 ås \nBerit och Kent Karlssons trädgård är på drygt 1000 m². Det fin
 ns växthus och i en bergskreva finns en damm med fiskar. Många både van
 liga och ovanliga träd och andra växter finns i trädgården som är i s
 tändig förändring med många pågående projekt. Här finns det fika.\n
 \nAvgift: 20 kr\nAnsvarig: Berit Karlsson 070-663 15 60
ATTACH;FMTTYPE=image/jpeg:https://media5.vasterastradgard.se/2019/01/mön
 ster-sv-tr-OKTT-webb-kopia-kopia-2-kopia.jpg
END:VEVENT
END:VCALENDAR