BEGIN:VCALENDAR
VERSION:2.0
PRODID:-//wp-events-plugin.com//6.6.3//EN
TZID:Europe/Stockholm
X-WR-TIMEZONE:Europe/Stockholm
BEGIN:VEVENT
UID:15@testar.vasterastradgard.se.vasterastradgard.se
DTSTART:20190527T170000Z
DTEND:20190527T170000Z
DTSTAMP:20190205T115535Z
URL:https://testar.vasterastradgard.se.vasterastradgard.se/Aktiviteter/tra
 dgardstraffar-i-varandras-tradgardar-2019/
SUMMARY:Trädgårdsträffar i varandras trädgårdar
DESCRIPTION:Att opretentiöst träffas i varandras trädgårdar\, att en 
 ”hel kväll” prata trädgård med likasinnade\, att ge och ta av varan
 dras trädgårdserfarenheter. Det är några av de erfarenheter som tidiga
 re grupper lyft fram. Absolut inget krav på att deltagarna ska ha ”visn
 ingsträdgård”. Trädgårdsintresse är ledstjärnan.\n\nSyftet med dag
 ens träff är att informera vidare om aktiviteten och bilda små grupper 
 för fortsatta träffar under säsongen. Tag med almanacka för den fortsa
 tta planeringen.\n\nPlats: Margareta Pettersson\, Visthusgatan 81.\n\nAnm
 älan senast 20 maj\, se nedan \n\nIngen avgift\n\nAnsvarig: Margareta Pe
 ttersson 070 359 16 82\n\n&nbsp\;
ATTACH;FMTTYPE=image/jpeg:https://media5.vasterastradgard.se/2017/06/IMG_5
 585-e1497255794716.jpg
END:VEVENT
END:VCALENDAR