BEGIN:VCALENDAR
VERSION:2.0
PRODID:-//wp-events-plugin.com//6.6.3//EN
TZID:Europe/Stockholm
X-WR-TIMEZONE:Europe/Stockholm
BEGIN:VEVENT
UID:44@testar.vasterastradgard.se.vasterastradgard.se
DTSTART:20240320T173000Z
DTEND:20240320T200000Z
DTSTAMP:20240105T104743Z
URL:https://testar.vasterastradgard.se.vasterastradgard.se/Aktiviteter/tra
 dgardscafe-rosor-2/
SUMMARY:Trädgårdscafé – Rosor
DESCRIPTION:Vi upprepar det populära trädgårdscaféet och roskursen frå
 n 2017.\n\nGunilla Uhlin-Friberg håller föredrag om rosor och visar anno
 rlunda växter som hon gärna samplanterar med sina rosor. Detta trädgår
 dscafé är öppet för alla medlemmar men är samtidigt kursstart för ro
 skursen (se nästa programpunkt).\n\nAvgift: 50 kr\, betalas av de som int
 e går kursen (ingår i kursavgiften för deltagare i roskursen).\n\nAnsva
 rig:
ATTACH;FMTTYPE=image/jpeg:https://media5.vasterastradgard.se/2024/01/Tradg
 ardscafe-720x300-1.jpg
LOCATION:Studiefrämjandet\, Pilgatan 8 C\, Västerås\, 721 30 \, Sverige
X-APPLE-STRUCTURED-LOCATION;VALUE=URI;X-ADDRESS=Pilgatan 8 C\, Västerås\,
  721 30 \, Sverige;X-APPLE-RADIUS=100;X-TITLE=Studiefrämjandet:geo:0,0
END:VEVENT
END:VCALENDAR