BEGIN:VCALENDAR
VERSION:2.0
PRODID:-//wp-events-plugin.com//6.6.3//EN
TZID:Europe/Stockholm
X-WR-TIMEZONE:Europe/Stockholm
BEGIN:VEVENT
UID:2@testar.vasterastradgard.se.vasterastradgard.se
DTSTART:20190314T173000Z
DTEND:20190314T173000Z
DTSTAMP:20190213T071649Z
URL:https://testar.vasterastradgard.se.vasterastradgard.se/Aktiviteter/tra
 dgardscafe-grundlaggande-godslingslara/
SUMMARY:Trädgårdscafé – Grundläggande gödslingslära
DESCRIPTION:Monica Borg Ohlsson från Prästgårdens Trädgård. Vi går ig
 enom grunderna för gödsling  av växter. Vi tar upp vilka växtnärings
 ämnen som är viktiga och deras betydelse i plantan. Hur känner man igen
  brist resp. överskott av växtnäring?  Annat som tas upp är vilka ol
 ika typer av gödselmedel det finns. Vad skiljer t.ex. mellan organisk gö
 dsel (naturgödsel) och mineralgödsel\, fördelar och nackdelar? Hur och 
 när ska de olika medlen användas?\n\nAvgift: 20 kr.\n\nPlats: Studiefrä
 mjandet\, Pilgatan 8c.\n\nAnsvarig: Irene Tjerngren 070 306 18 38.
ATTACH;FMTTYPE=image/jpeg:https://media5.vasterastradgard.se/2019/01/mön
 ster-sv-tr-OKTT-webb-kopia-kopia-2-kopia.jpg
END:VEVENT
END:VCALENDAR