BEGIN:VCALENDAR
VERSION:2.0
PRODID:-//wp-events-plugin.com//6.6.3//EN
TZID:Europe/Stockholm
X-WR-TIMEZONE:Europe/Stockholm
BEGIN:VEVENT
UID:40@testar.vasterastradgard.se.vasterastradgard.se
DTSTART:20230424T173000Z
DTEND:20230424T173000Z
DTSTAMP:20230406T083139Z
URL:https://testar.vasterastradgard.se.vasterastradgard.se/Aktiviteter/tra
 dgardscafe-3-arstiderna-i-tradgarden-del-1/
SUMMARY:Trädgårdscafé 3 - Årstiderna i trädgården del 1
DESCRIPTION:\n\nVåren kommer med ljus\, växtkraft och stor lust att få k
 omma i gång med trädgården\, men det kan vara mycket att göra och svå
 rt att veta i vilken ordning saker ska göras. Därefter kommer sommaren m
 ed sina speciella behov av underhåll. Mycket beror på hur vädret blir o
 ch hur trädgården ska klara perioder av bortavaro under semestertiden. N
 är ska vi ha tid att njuta?\n\nPå detta cafétillfälle\, startar vi med
  en kortare introduktion och sedan diskuterar vi gemensamt\, olika problem
 ställningar och delger varandra kreativa lösningar.\n\nFöreläsare: Ire
 ne Tjerngren\, trädgårdsingenjör\, med inriktning design.\n\nAvgift: 20
  kr inkl. fika.\n\nAnsvarig: Ann-Christine Svensson 070 746 88 86.\n\n&nb
 sp\;\n\n&nbsp\;
LOCATION:Studiefrämjandet\, Pilgatan 8 C\, Västerås\, 721 30 \, Sverige
X-APPLE-STRUCTURED-LOCATION;VALUE=URI;X-ADDRESS=Pilgatan 8 C\, Västerås\,
  721 30 \, Sverige;X-APPLE-RADIUS=100;X-TITLE=Studiefrämjandet:geo:0,0
END:VEVENT
END:VCALENDAR