BEGIN:VCALENDAR
VERSION:2.0
PRODID:-//wp-events-plugin.com//6.6.3//EN
TZID:Europe/Stockholm
X-WR-TIMEZONE:Europe/Stockholm
BEGIN:VEVENT
UID:37@testar.vasterastradgard.se.vasterastradgard.se
DTSTART:20230323T173000Z
DTEND:20230323T173000Z
DTSTAMP:20221216T120830Z
URL:https://testar.vasterastradgard.se.vasterastradgard.se/Aktiviteter/tra
 dgardscafe-2-komponera-vaxtligheten-i-tradgarden/
SUMMARY:Trädgårdscafé 2 – Komponera växtligheten i trädgården
DESCRIPTION:\n\nNu är det dags att fylla trädgården med växter. Det fin
 ns så otroligt många att välja på och utbudet blir bara större och st
 örre av både perenner (fleråriga)\, annueller (ettåriga) och buskar oc
 h träd. De vedartade växterna: träden\, buskarna och klätterväxterna\
 , både vintergröna och lövfällande\, utgör stommen i trädgården. Li
 kt väggarna\, taken och de stora möblerna inomhus. Det är de som skapar
  rummen. Börja med dessa. De kan ju ta lite tid på sig att växa till. D
 et blir en inspirationsvisning av vackra och användbara vedartade växter
 \, både klassiker och spännande nytillskott. Givetvis kan vi i efterföl
 jande diskussion prata om alla typer av växter.\n\nFöreläsare: Jenny La
 rsdotter Nilsson\, hortonom och lärare i växtkunskap.\n\nAvgift: 20 kr i
 nkl. fika.\n\nAnsvarig: Ann-Christine Svensson 070 746 88 86.
LOCATION:Studiefrämjandet\, Pilgatan 8 C\, Västerås\, 721 30 \, Sverige
X-APPLE-STRUCTURED-LOCATION;VALUE=URI;X-ADDRESS=Pilgatan 8 C\, Västerås\,
  721 30 \, Sverige;X-APPLE-RADIUS=100;X-TITLE=Studiefrämjandet:geo:0,0
END:VEVENT
END:VCALENDAR