BEGIN:VCALENDAR
VERSION:2.0
PRODID:-//wp-events-plugin.com//6.6.3//EN
TZID:Europe/Stockholm
X-WR-TIMEZONE:Europe/Stockholm
BEGIN:VEVENT
UID:36@testar.vasterastradgard.se.vasterastradgard.se
DTSTART:20230306T173000Z
DTEND:20230306T173000Z
DTSTAMP:20221216T125918Z
URL:https://testar.vasterastradgard.se.vasterastradgard.se/Aktiviteter/tra
 dgardscafe-1-planering-av-min-tradgard/
SUMMARY:Trädgårdscafé 1 – Planering av min trädgård
DESCRIPTION:Hjälp! Du har en tomtyta!! Hur ska du göra\, för att få den
  att bli din drömträdgård? Det är lätt att göra misstag\, som blir k
 ostsamma både arbetsmässigt och ekonomiskt. Det vill vi helst undvika oc
 h därför är det bra att ”tänka efter före.”  Ledordet är trädg
 årdsplanering!\n\nIrene tar upp olika frågeställningar\, förklarar arb
 etsprocessen och visar i stora drag hur trädgårdsplaneringen kan gå til
 l. Gemensamt diskuterar vi olika möjligheter och förutsättningar.\n\nF
 öreläsare: Irene Tjerngren\, trädgårdsingenjör\, med inriktning desig
 n.\n\nAvgift: 20 kr inkl. fika.\n\nAnsvarig: Ann-Christine Svensson 070 7
 46 88 86
LOCATION:Studiefrämjandet\, Pilgatan 8 C\, Västerås\, 721 30 \, Sverige
X-APPLE-STRUCTURED-LOCATION;VALUE=URI;X-ADDRESS=Pilgatan 8 C\, Västerås\,
  721 30 \, Sverige;X-APPLE-RADIUS=100;X-TITLE=Studiefrämjandet:geo:0,0
END:VEVENT
END:VCALENDAR