BEGIN:VCALENDAR
VERSION:2.0
PRODID:-//wp-events-plugin.com//6.6.3//EN
TZID:Europe/Stockholm
X-WR-TIMEZONE:Europe/Stockholm
BEGIN:VEVENT
UID:21@testar.vasterastradgard.se.vasterastradgard.se
DTSTART:20190815T170000Z
DTEND:20190815T170000Z
DTSTAMP:20190214T113058Z
URL:https://testar.vasterastradgard.se.vasterastradgard.se/Aktiviteter/tra
 dgardsbesok-i-ransta/
SUMMARY:Trädgårdsbesök i Ransta
DESCRIPTION:Suzanne och Håkan Hedelinds trädgård är på ca 2000 m2 och 
 ligger i Ransta samhälle. Huset är byggt 1936. Då fanns det endast äpp
 elodlingar runt omkring. De flyttade hit för 30 år sedan. En hel del fru
 ktträd har tagits bort under åren och ersatts med buskar och perennrabat
 ter. Perenner är ett intresse\, rosor och blommande växter i kruka ett a
 nnat. De har också tagit upp lite odling av grönsaker igen.\n\nPlats: K
 ärrbäcksbovägen 10\, Ransta.\n\nVägbeskrivning: Ta av väg 56 mot Rans
 ta. Sväng vänster vid snickeriet\, står Kumla kyrkby på skylten. Ta ti
 ll höger vid gul skylt Ransta. Då är ni på Kärrbäcksbovägen. Passer
 a grå grind nr 10. Kör vänster in på Hemslöjdsvägen. Framme.\n\nSam
 åkning: Kontakta ansvarig minst tre dagar före om du vill samåka.\n\nAv
 gift: 20 kr.\n\nAnsvarig: Irene Tjerngren 070 306 18 38.
ATTACH;FMTTYPE=image/jpeg:https://media5.vasterastradgard.se/2019/01/mön
 ster-sv-tr-OKTT-webb-kopia-kopia-2-kopia.jpg
END:VEVENT
END:VCALENDAR