BEGIN:VCALENDAR
VERSION:2.0
PRODID:-//wp-events-plugin.com//6.6.3//EN
TZID:Europe/Stockholm
X-WR-TIMEZONE:Europe/Stockholm
BEGIN:VEVENT
UID:17@testar.vasterastradgard.se.vasterastradgard.se
DTSTART:20190612T170000Z
DTEND:20190612T170000Z
DTSTAMP:20190214T112855Z
URL:https://testar.vasterastradgard.se.vasterastradgard.se/Aktiviteter/tra
 dgardsbesok-i-kvicksund/
SUMMARY: Trädgårdsbesök i Kvicksund
DESCRIPTION:Ann-Christine och Anders Falk välkomnar oss till sin mälarnä
 ra trädgård på 2200 kvm som de planerat och odlat sedan 1978. Naturliga
  förutsättningar var en ekdunge\, ett bergsparti och en blomsteräng. D
 ärutöver anlades gräsmatta\, perennrabatter och en nyttoträdgård. Med
  åren har det tillkommit en damm\, ett woodland och ett rosarium. Deras s
 enaste projekt har varit att renovera blomsterängen och låta bergspartie
 t blomma.\n\nPlats: Eknäsvägen 9\, Kvicksund.\n\nVägbeskrivning: Tag v
 äg 56 till Kvicksund. Sväng vänster vid K-macken/Båt-Sam. Fortsätt Ra
 sholmsvägen\, därefter Kalle Söderbergs väg\, andra avtagsvägen till 
 vänster. Eknäsvägen är sedan första avtagsvägen till höger. De bor 
 längst ned\, hus nummer 9.\n\nSamåkning: Kontakta ansvarig minst tre dag
 ar före om du vill samåka.\n\nAvgift: 20 kr.\n\nAnsvarig: Irene Tjerngre
 n 070 306 18 38.
ATTACH;FMTTYPE=image/jpeg:https://media5.vasterastradgard.se/2019/01/mön
 ster-sv-tr-OKTT-webb-kopia-kopia-2-kopia.jpg
END:VEVENT
END:VCALENDAR