BEGIN:VCALENDAR
VERSION:2.0
PRODID:-//wp-events-plugin.com//6.6.3//EN
TZID:Europe/Stockholm
X-WR-TIMEZONE:Europe/Stockholm
BEGIN:VEVENT
UID:19@testar.vasterastradgard.se.vasterastradgard.se
DTSTART:20190702T170000Z
DTEND:20190702T170000Z
DTSTAMP:20190214T112930Z
URL:https://testar.vasterastradgard.se.vasterastradgard.se/Aktiviteter/tra
 dgardsbesok-i-irsta-2/
SUMMARY:Trädgårdsbesök i Irsta
DESCRIPTION:Johan och Malin Sjögren\, som visade sin trädgård under Tuse
 n Trädgårdar 2018\, hälsar oss välkommen till sin lummiga villaträdg
 ård med två dammar som förbinds med ett porlande vattenfall. De gillar 
 gröna växter i olika nyanser och former och har skapat rabatter kring hu
 set och runt dammarna. Under de 15 år de bott där har de skapat en trivs
 am trädgård som de beskriver som lagom vild och lagom tuktad.\n\nPlats: 
 Snorregatan 16\, Irsta.\n\nAvgift: 20 kr.\n\nAnsvarig: Ulla Jerregård 073
  951 58 77
ATTACH;FMTTYPE=image/jpeg:https://media5.vasterastradgard.se/2019/01/mön
 ster-sv-tr-OKTT-webb-kopia-kopia-2-kopia.jpg
END:VEVENT
END:VCALENDAR