BEGIN:VCALENDAR
VERSION:2.0
PRODID:-//wp-events-plugin.com//6.6.3//EN
TZID:Europe/Stockholm
X-WR-TIMEZONE:Europe/Stockholm
BEGIN:VEVENT
UID:14@testar.vasterastradgard.se.vasterastradgard.se
DTSTART:20190522T170000Z
DTEND:20190522T170000Z
DTSTAMP:20190214T112754Z
URL:https://testar.vasterastradgard.se.vasterastradgard.se/Aktiviteter/tra
 dgardsbesok-i-hamre/
SUMMARY:Trädgårdsbesök i Hamre
DESCRIPTION:Efter några års uppehåll besöker vi återigen Ann-Marie och
  Sven-Olof Anderssons trädgård på Hamre. De har främst magnolior\, rho
 dodendron och andra surjordsväxter. Redan 1974 planterades de första mag
 noliorna som nu växt sig så stora att Sven-Olof sett sig nödsakad att t
 a bort en del. Men de har efter hand ersatts med nya träd.\n\n&nbsp\;\n\n
 &nbsp\;\n\nPlats: Långrevsgatan 3\, Västerås.\n\nAvgift: 20 kr\n\nAnsva
 rig: Lena Betts 073 938 38 83
ATTACH;FMTTYPE=image/jpeg:https://media5.vasterastradgard.se/2019/01/mön
 ster-sv-tr-OKTT-webb-kopia-kopia-2-kopia.jpg
END:VEVENT
END:VCALENDAR