BEGIN:VCALENDAR
VERSION:2.0
PRODID:-//wp-events-plugin.com//6.6.3//EN
TZID:Europe/Stockholm
X-WR-TIMEZONE:Europe/Stockholm
BEGIN:VEVENT
UID:47@testar.vasterastradgard.se.vasterastradgard.se
DTSTART:20240108T170000Z
DTEND:20240108T170000Z
DTSTAMP:20240105T104512Z
URL:https://testar.vasterastradgard.se.vasterastradgard.se/Aktiviteter/tes
 tar-bokning/
SUMMARY:Testar bokning
DESCRIPTION:XXXXXXXXXXXXXXXXXXXX
ATTACH;FMTTYPE=image/jpeg:https://media5.vasterastradgard.se/2024/01/Tradg
 ardscafe-720x300-1.jpg
LOCATION:Studiefrämjandet\, Pilgatan 8 C\, Västerås\, 721 30 \, Sverige
X-APPLE-STRUCTURED-LOCATION;VALUE=URI;X-ADDRESS=Pilgatan 8 C\, Västerås\,
  721 30 \, Sverige;X-APPLE-RADIUS=100;X-TITLE=Studiefrämjandet:geo:0,0
END:VEVENT
END:VCALENDAR