BEGIN:VCALENDAR
VERSION:2.0
PRODID:-//wp-events-plugin.com//6.6.3//EN
TZID:Europe/Stockholm
X-WR-TIMEZONE:Europe/Stockholm
BEGIN:VEVENT
UID:27@testar.vasterastradgard.se.vasterastradgard.se
DTSTART:20190928T120000Z
DTEND:20190928T160000Z
DTSTAMP:20190820T102543Z
URL:https://testar.vasterastradgard.se.vasterastradgard.se/Aktiviteter/sve
 tskurs-arbeta-med-armeringsjarn-2/
SUMMARY:Svetskurs - arbeta med armeringsjärn
DESCRIPTION:Under ledning av Esko Hellström lär vi oss att kapa\, bocka o
 ch foga ihop armeringsjärn till enkla saker för trädgården\, t ex. vä
 xtstöd.\nTag med grova arbetshandskar\, arbetskläder\, skor och hörsels
 kydd. Om du har\, ta även med svetsskärm och skyddsglasögon.\n\nPlats: 
 Bergmästarvägen 27\, Västerås\n\nKursavgift: 250 kr inkl. kaffe. Betal
 as på plats\, kontant eller swish.\n\nMax 5 deltagare.\n\nMaterialkostnad
  tillkommer.\n\nAnmälan senast 18 september till www.vasterastradgard.se/
 event.\n\nAnsvarig: Berit Karlsson 070 663 15 60
ATTACH;FMTTYPE=image/jpeg:https://media5.vasterastradgard.se/2019/01/Träd
 gårdskurs.jpg
END:VEVENT
END:VCALENDAR