BEGIN:VCALENDAR
VERSION:2.0
PRODID:-//wp-events-plugin.com//6.6.3//EN
TZID:Europe/Stockholm
X-WR-TIMEZONE:Europe/Stockholm
BEGIN:VEVENT
UID:22@testar.vasterastradgard.se.vasterastradgard.se
DTSTART:20190816T230000Z
DTEND:20190817T230000Z
DTSTAMP:20190205T115736Z
URL:https://testar.vasterastradgard.se.vasterastradgard.se/Aktiviteter/som
 marmote-i-huddinge-botkyrka/
SUMMARY:Sommarmöte i Huddinge-Botkyrka
DESCRIPTION:Sommarmötet arrangeras i år av Huddinge-Botkyrka trädgårdsf
 örening\n\nArrangör: Riksförbundet Svensk Trädgård.\n\nSe kommande in
 formation i tidningen Hemträdgården.
END:VEVENT
END:VCALENDAR