BEGIN:VCALENDAR
VERSION:2.0
PRODID:-//wp-events-plugin.com//6.6.3//EN
TZID:Europe/Stockholm
X-WR-TIMEZONE:Europe/Stockholm
BEGIN:VEVENT
UID:23@testar.vasterastradgard.se.vasterastradgard.se
DTSTART:20190901T100000Z
DTEND:20190901T150000Z
DTSTAMP:20190205T115925Z
URL:https://testar.vasterastradgard.se.vasterastradgard.se/Aktiviteter/sko
 rde-och-vaxtmarknad-pa-vallby/
SUMMARY:Skörde- och växtmarknad på Vallby
DESCRIPTION:Marknaden sammanfaller med Vallbys höstfest. VTS-medlemmar sä
 ljer av trädgårdens skörd\, t ex äpplen\, päron\, grönsaker\, bär\,
  sylt\, saft\, och marmelad. Marknaden är också tänkt att rymma plantor
 \, fröer\, växter och trädgårdstillbehör.\n\nAlla är välkomna att h
 andla.\n\nKontant betalning (jämna pengar) eller Swish till de säljare s
 om har.\n\nIngen avgift. \n\nAnmälan för säljare: senast 27 augusti\, s
 e nedan\n\nInformation till säljare här     \n\nAnsvarig: Kerstin Lin
 d 070 273 35 95.
ATTACH;FMTTYPE=image/jpeg:https://media5.vasterastradgard.se/2017/09/IMG_1
 942-Copy.jpg
END:VEVENT
END:VCALENDAR