BEGIN:VCALENDAR
VERSION:2.0
PRODID:-//wp-events-plugin.com//6.6.3//EN
TZID:Europe/Stockholm
X-WR-TIMEZONE:Europe/Stockholm
BEGIN:VEVENT
UID:3@testar.vasterastradgard.se.vasterastradgard.se
DTSTART:20190320T173000Z
DTEND:20190320T173000Z
DTSTAMP:20190205T115250Z
URL:https://testar.vasterastradgard.se.vasterastradgard.se/Aktiviteter/kur
 s-uppfoljning-av-beskarningskursen/
SUMMARY:Kurs Uppföljning av beskärningskursen
DESCRIPTION:Kursen är avsedd för deltagare som tidigare genomgått kursen
  ” Beskärning och ympning av fruktträd”. Vi börjar onsdag 20 mars k
 l. 18.30 – 20.30 med en kort repetition av teori och önskemål från ku
 rsdeltagare. Praktiska övningar gör vi i några av kursdeltagarnas träd
 gårdar söndagar 24/3 och 31/3\, kl. 9-12.\nMin 4\, max 9 deltagare\n\nKu
 rsledare: Stefan Boegård 070 928 73 51\n\nKursavgift: 250 kr betalas på 
 plats\n\nPlats: Studiefrämjandet\, Pilgatan 8c.\n\nAnmälan senast 12 mar
 s\, se nedan
ATTACH;FMTTYPE=image/jpeg:https://media5.vasterastradgard.se/2016/04/DSC02
 387-kopia.jpg
END:VEVENT
END:VCALENDAR