BEGIN:VCALENDAR
VERSION:2.0
PRODID:-//wp-events-plugin.com//6.6.3//EN
TZID:Europe/Stockholm
X-WR-TIMEZONE:Europe/Stockholm
BEGIN:VEVENT
UID:6@testar.vasterastradgard.se.vasterastradgard.se
DTSTART:20190323T120000Z
DTEND:20190323T160000Z
DTSTAMP:20190205T135216Z
URL:https://testar.vasterastradgard.se.vasterastradgard.se/Aktiviteter/kur
 s-tillverka-insektsholk/
SUMMARY:Kurs Tillverka insektsholk
DESCRIPTION:Under senare år har intresset ökat för att locka pollinerare
  och andra insekter till våra trädgårdar. För att hjälpa till behöve
 r vi både växter som attraherar insekterna och någonstans där insekter
 na kan lägga sina ägg. För att förhoppningsvis locka fler insekter gö
 r vi enkla insektsholkar under ledning av Lennart Urby\, genom att borra h
 ål i lämpliga träbitar.\n\nOm du har\, ta med egen borrmaskin och skruv
 dragare samt borrar från 6 mm – 10 mm.\n\nMin 5\, max 8 deltagare.\n\nK
 ursavgift: 100 kr inkl. fika. Materialkostnad tillkommer. Betalas efter be
 kräftelse att aktiviteten blir av till VTS Pg 39 29 40-3.\n\nPlats: Tomas
 kyrkans snickerilokal Cedergatan 1.\n\nAnmälan senast 8 mars\, se nedan\n
 \nAnsvarig: Berit Karlsson 070 663 15 60
ATTACH;FMTTYPE=image/jpeg:https://media5.vasterastradgard.se/2018/03/DSC05
 490-kopia.jpg
END:VEVENT
END:VCALENDAR