BEGIN:VCALENDAR
VERSION:2.0
PRODID:-//wp-events-plugin.com//6.6.3//EN
TZID:Europe/Stockholm
X-WR-TIMEZONE:Europe/Stockholm
BEGIN:VEVENT
UID:7@testar.vasterastradgard.se.vasterastradgard.se
DTSTART:20190425T170000Z
DTEND:20190425T200000Z
DTSTAMP:20190205T115215Z
URL:https://testar.vasterastradgard.se.vasterastradgard.se/Aktiviteter/kur
 s-tillverka-ditt-eget-frukttrad/
SUMMARY:Kurs Tillverka ditt eget fruktträd.
DESCRIPTION:Du skapar ditt eget fruktträd genom att ympa in en önskad sor
 t på en grundstam. Ditt träd tar du med dig hem och planterar senare i v
 år. Ympkvistar av ett antal vanliga sorter finns att tillgå liksom någr
 a olika grundstammar. Du kan också ta med ympkvistar av den sort du vill 
 ha. Kursen inleds med genom­gång av några olika sätt att ympa och prak
 tiska övningar. Lämpliga verktyg finns att låna. Fika ingår i kursavgi
 ften.\n\nMin 3\, max 6 deltagare.\n\nPlats: Mangelgatan 9.\n\nKursledare: 
 Stefan Boegård 070 928 73 51\n\nKursavgift: 250 kr betalas på plats\n\nA
 nmälan senast 12 april\, se nedan \n\n&nbsp\;
ATTACH;FMTTYPE=image/jpeg:https://media5.vasterastradgard.se/2017/04/003-e
 1493310595182.jpg
END:VEVENT
END:VCALENDAR