BEGIN:VCALENDAR
VERSION:2.0
PRODID:-//wp-events-plugin.com//6.6.3//EN
TZID:Europe/Stockholm
X-WR-TIMEZONE:Europe/Stockholm
BEGIN:VEVENT
UID:39@testar.vasterastradgard.se.vasterastradgard.se
DTSTART:20230419T170000Z
DTEND:20230419T200000Z
DTSTAMP:20230405T151159Z
URL:https://testar.vasterastradgard.se.vasterastradgard.se/Aktiviteter/kur
 s-tillverka-ditt-eget-frukttrad-5/
SUMMARY:Kurs - Tillverka ditt eget fruktträd
DESCRIPTION:Du skapar ditt eget fruktträd genom att ympa in en önskad sor
 t på en grundstam. Ditt träd tar du med dig hem och planterar senare i v
 år. Ympkvistar av ett antal vanliga sorter finns att tillgå liksom någr
 a olika grundstammar. Du kan också ta med ympkvistar av den sort du vill 
 ha. Kursen inleds med genom­gång av några olika sätt att ympa och prak
 tiska övningar. Lämpliga verktyg finns att låna.\nMin 3\, max 6 deltaga
 re.\n\nKursledare: Stefan Boegård 070 928 73 51.\n\nAnmälan senast 4 apr
 il\n\nKursavgift: 150 kr betalas efter bekräftelse att kursen blir av til
 l VTS Pg 39 29 40-3 senast 11 april. Dessutom tillkommer 100 kr för mater
 ial och fika som betalas direkt till kursledaren\, kontant eller med swish
 .\n\nAnsvarig: Maria Schartau 073 719 79 69.
LOCATION:Stefan Boegård\, Mangelgatan 0\, 72476 Västerås\, Sverige
X-APPLE-STRUCTURED-LOCATION;VALUE=URI;X-ADDRESS=Mangelgatan 0\, 72476 Väst
 erås\, Sverige;X-APPLE-RADIUS=100;X-TITLE=Stefan Boegård:geo:0,0
END:VEVENT
END:VCALENDAR