BEGIN:VCALENDAR
VERSION:2.0
PRODID:-//wp-events-plugin.com//6.6.3//EN
TZID:Europe/Stockholm
X-WR-TIMEZONE:Europe/Stockholm
BEGIN:VEVENT
UID:10@testar.vasterastradgard.se.vasterastradgard.se
DTSTART:20190508T170000Z
DTEND:20190508T200000Z
DTSTAMP:20190214T112648Z
URL:https://testar.vasterastradgard.se.vasterastradgard.se/Aktiviteter/kur
 s-tillverka-ampel-i-makrame/
SUMMARY:Kurs - Tillverka ampel i makramé
DESCRIPTION:Under ledning av trädgårdsmästare Marie Blomqvist ska vi til
 lverka var sin ampel i makramé. Ampeln tillverkas av industrihampa med hj
 älp av några grundläggande knutar.\n\nMin 6\, max 8 - 10 deltagare\n\nK
 ursavgift: 480 kr inklusive fika betalas efter bekräftelse att kursen bli
 r av till VTS PG 39 29 40-3. Materialkostnad tillkommer.\n\nPlats: Vallby 
 Friluftsmuseum.\n\nAnmälan senast 24 april till www.vasterastradgard.se/e
 vent\n\nAnsvarig: Margareta Pettersson 070 359 16 82
ATTACH;FMTTYPE=image/jpeg:https://media5.vasterastradgard.se/2019/01/mön
 ster-sv-tr-OKTT-webb-kopia-kopia-2-kopia.jpg
END:VEVENT
END:VCALENDAR