BEGIN:VCALENDAR
VERSION:2.0
PRODID:-//wp-events-plugin.com//6.6.3//EN
TZID:Europe/Stockholm
X-WR-TIMEZONE:Europe/Stockholm
BEGIN:VEVENT
UID:1@testar.vasterastradgard.se.vasterastradgard.se
DTSTART:20190313T173000Z
DTEND:20190313T173000Z
DTSTAMP:20190213T071845Z
URL:https://testar.vasterastradgard.se.vasterastradgard.se/Aktiviteter/kur
 s-beskarning-och-ympning-av-frukttrad/
SUMMARY:Kurs - Beskärning och ympning av fruktträd
DESCRIPTION:Vi börjar onsdag 13 mars kl. 18.30 – 21.00 med en kort teori
 genomgång och demonstration av verktyg. Praktiska övningar lördagar 16/
 3\, 23/3\, 6/4\, kl. 9-12\, ympning en kväll i maj samt  JAS-beskärning
  en lördag i augusti. Kursen omfattar vård av yngre och äldre fruktträ
 d\, teknik vid beskärning samt ympning.\n\nMin 4\, max 9 deltagare\n\nKur
 sledare: Stefan Boegård 070 928 73 51\n\nKursavgift: 500 kr betalas på p
 lats\n\nAnmälan senast 6 mars\, se nedan\n\nPlats: Studiefrämjandet\, Pi
 lgatan 8c.\n\n&nbsp\;
ATTACH;FMTTYPE=image/jpeg:https://media5.vasterastradgard.se/2018/09/DSC07
 731-kopia-e1548924772662.jpg
END:VEVENT
END:VCALENDAR