BEGIN:VCALENDAR
VERSION:2.0
PRODID:-//wp-events-plugin.com//6.6.3//EN
TZID:Europe/Stockholm
X-WR-TIMEZONE:Europe/Stockholm
BEGIN:VEVENT
UID:41@testar.vasterastradgard.se.vasterastradgard.se
DTSTART:20231202T130000Z
DTEND:20231202T160000Z
DTSTAMP:20231026T100748Z
URL:https://testar.vasterastradgard.se.vasterastradgard.se/Aktiviteter/kra
 nskurs-till-advent/
SUMMARY:Kranskurs till advent
DESCRIPTION:Med hjälp av Helena D´Adda\, Miss Daisy Blomsterateljé skapa
 r vi dörrkrans inför advent/jul. Helena guidar oss med tips och tricks d
 å vi klär en halmstomme med granris/ buxbom och slutligen pyntar den eft
 er eget behag. Medtag sekatör övrigt material ingår.\n\n\n\nLänk till
  Miss Daisy Blomsterateljé \n\nRubrikbild från tidigare kurser.\n\n&nb
 sp\;\n\nPlats: Studiefrämjandet Pilgatan 8C. Misteln (Stora salen)\n\nMi
 n 9\, max 15 deltagare.\n\nAnmälan senast 11 november\, se nedan\n\nKurs
 avgift: 445 kr inkl. glögg\, pepparkaka och material\, betalas efter bek
 räftelse att aktiviteten blir av till VTS Pg 39 29 40-3\n\nAnsvarig: Mar
 gareta Pettersson 070 359 16 82.
ATTACH;FMTTYPE=image/jpeg:https://media5.vasterastradgard.se/2023/10/20191
 219_144827-scaled.jpg
LOCATION:Studiefrämjandet\, Pilgatan 8 C\, Västerås\, 721 30 \, Sverige
X-APPLE-STRUCTURED-LOCATION;VALUE=URI;X-ADDRESS=Pilgatan 8 C\, Västerås\,
  721 30 \, Sverige;X-APPLE-RADIUS=100;X-TITLE=Studiefrämjandet:geo:0,0
END:VEVENT
END:VCALENDAR