BEGIN:VCALENDAR
VERSION:2.0
PRODID:-//wp-events-plugin.com//6.6.3//EN
TZID:Europe/Stockholm
X-WR-TIMEZONE:Europe/Stockholm
BEGIN:VEVENT
UID:45@testar.vasterastradgard.se.vasterastradgard.se
DTSTART:20240306T170000Z
DTEND:20240306T183000Z
DTSTAMP:20240105T104710Z
URL:https://testar.vasterastradgard.se.vasterastradgard.se/Aktiviteter/inv
 asiva-frammande-arter/
SUMMARY:Invasiva främmande arter.
DESCRIPTION:Zsombor Károlyi från Länsstyrelsen i Västmanland föreläs
 er om invasiva främmande arter - ett växande problem i våra tätorter\,
  infrastruktur och trädgårdar. I Västmanland förekommer ett antal prob
 lematiska växter med olika utbredning och förutsättningar. Vad är det 
 som gäller kring invasiva arter\, hur påverkar de vår inhemska flora oc
 h fauna\, och vad kan vi göra åt problemet? Vi lämnar gott om tid till 
 frågor och diskussioner.\n\nDetta är ett samarbete med: Naturskyddsföre
 ningen i Västerås\, Botaniska Föreningen i Västmanland\, Koloniträdg
 årdsförbundet\, Västerås Trädgårdssällskap\, Mälardalskretsen av T
 rädgårdsamatörerna\, Västerås Allmänna Villaförening\, Studiefrämj
 andet Västmanland.\n\nAnsvarig: Berit Karlsson 070 663 15 60.
ATTACH;FMTTYPE=image/jpeg:https://media5.vasterastradgard.se/2023/12/DSC01
 903-scaled.jpg
LOCATION:Stadsbiblioteket Hörsalen\, Biskopsgatan 2\, Västerås\, Västma
 nland\, 72211\, Sverige
X-APPLE-STRUCTURED-LOCATION;VALUE=URI;X-ADDRESS=Biskopsgatan 2\, Västerås
 \, Västmanland\, 72211\, Sverige;X-APPLE-RADIUS=100;X-TITLE=Stadsbibliote
 ket Hörsalen:geo:0,0
END:VEVENT
END:VCALENDAR