BEGIN:VCALENDAR
VERSION:2.0
PRODID:-//wp-events-plugin.com//6.6.3//EN
TZID:Europe/Stockholm
X-WR-TIMEZONE:Europe/Stockholm
BEGIN:VEVENT
UID:28@testar.vasterastradgard.se.vasterastradgard.se
DTSTART:20191017T173000Z
DTEND:20191017T200000Z
DTSTAMP:20190820T102745Z
URL:https://testar.vasterastradgard.se.vasterastradgard.se/Aktiviteter/hos
 tmote-odla-hela-aret-2/
SUMMARY:Höstmöte - Odla hela året
DESCRIPTION:Varför begränsa odlandet bara till vår och sommar när året
  har två årstider till som kan\ngrönska? I föreläsningen berättar Jo
 hannes Wätterbäck hur man kan tänja på gränserna\noch odla ätbart un
 der så lång tid som möjligt\, hur man kan utnyttja plats för att få f
 ler\nskördar på liten yta\, hur fönsterbrädan kan ge skörd då utomhu
 sklimatet inte kan. Därtill\nger han läckra tips på vad man kan göra m
 ed sin skörd.\n\nPlats: Hörsalen\, Västerås Stadsbibliotek\n\nMötet 
 är öppet för allmänheten\n\nAvgift: Medlem 50 kr\, övriga 80 kr inkl.
  kaffe.\n\nAnsvarig: Lena Betts 073 938 38 83\n\n&nbsp\;
ATTACH;FMTTYPE=image/jpeg:https://media5.vasterastradgard.se/2019/08/Höst
 möte.jpg
END:VEVENT
END:VCALENDAR