BEGIN:VCALENDAR
VERSION:2.0
PRODID:-//wp-events-plugin.com//6.6.3//EN
TZID:Europe/Stockholm
X-WR-TIMEZONE:Europe/Stockholm
BEGIN:VEVENT
UID:33@testar.vasterastradgard.se.vasterastradgard.se
DTSTART:20191127T170000Z
DTEND:20191127T193000Z
DTSTAMP:20191119T153033Z
URL:https://testar.vasterastradgard.se.vasterastradgard.se/Aktiviteter/dor
 rkrans-infor-advent/
SUMMARY:Dörrkrans inför advent
DESCRIPTION:Vi skapar en krans inför Jul/Advent med hjälp av Norells pers
 onal utifrån framtaget material. Önskar man köpa till extra material un
 der kursen eller något annat erhåller man 15% rabatt på allt i butiken.
 \n\nMin 5\, max 10 deltagare.\n\nPlats: Norells Trädgårdscenter Hökås
 en\, Västerås\n\nAnmälan: senast 11 november\, se nedan\n\nKursavgift:
  360 kr inkl. kaffe och grundmaterial\, betalas efter bekräftelse att ak
 tiviteten blir av till VTS Pg 39 29 40-3\n\nAnsvarig: Gunnar Edling 070 5
 34 46 74
ATTACH;FMTTYPE=image/jpeg:https://media5.vasterastradgard.se/2017/12/IMG_6
 595.jpg
END:VEVENT
END:VCALENDAR