BEGIN:VCALENDAR
VERSION:2.0
PRODID:-//wp-events-plugin.com//6.6.3//EN
TZID:Europe/Stockholm
X-WR-TIMEZONE:Europe/Stockholm
BEGIN:VEVENT
UID:5@testar.vasterastradgard.se.vasterastradgard.se
DTSTART:20190321T071500Z
DTEND:20190321T173000Z
DTSTAMP:20190205T121521Z
URL:https://testar.vasterastradgard.se.vasterastradgard.se/Aktiviteter/bus
 sresa-till-nordiska-tradgardar/
SUMMARY:Bussresa till Nordiska Trädgårdar
DESCRIPTION:Med bokad buss åker vi direkt till trädgårdsmässan Nordiska
  Trädgårdar. Temat för mässan 2019 är ”Vild och kontrollerad”. Ku
 pong (kod) Hemträdgården nr 1/2019 ger rabatterat pris på entrén till 
 mässan. \n\nLänk till Nordiska Trädgårdar\, där du kan läsa om utst
 ällare och scen- och aktivitetsprogram. När du har rabattkoden kan du ä
 ven boka inträdesbiljett i förväg på nätet.\nMin 40\, Max 50 deltagar
 e.\nBusskostnad: Medlem 175 kr\, icke medlem i mån av plats 250 kr\, beta
 las efter bekräftelse att resan blir av till VTS Pg 39 29 40-3 senast 16 
 mars.\nBussen avgår kl. 8.30 och går hem kl. 17.00.\nPlats: Stockholmsm
 ässan Älvsjö.\nSamlingsplats: ABB Arena Nord Rocklunda\, framför ishoc
 keyhallen.\nAnmälan senast 7 mars\, se nedan\nAnsvarig: Maria Schartau 07
 3 719 79 69
ATTACH;FMTTYPE=image/jpeg:https://media5.vasterastradgard.se/2016/04/2016-
 04-21-16.56.25-e1548926185969.jpg
END:VEVENT
END:VCALENDAR