BEGIN:VCALENDAR
VERSION:2.0
PRODID:-//wp-events-plugin.com//6.6.3//EN
TZID:Europe/Stockholm
X-WR-TIMEZONE:Europe/Stockholm
BEGIN:VEVENT
UID:38@testar.vasterastradgard.se.vasterastradgard.se
DTSTART:20230330T071500Z
DTEND:20230330T173000Z
DTSTAMP:20221216T130546Z
URL:https://testar.vasterastradgard.se.vasterastradgard.se/Aktiviteter/bus
 sresa-till-nordiska-tradgardar-2/
SUMMARY:Bussresa till Nordiska Trädgårdar
DESCRIPTION:\n\nSamlingsplats: ABB Arena Nord Rocklunda\, parkeringen framf
 ör ishockeyhallen.\n\nMed bokad buss åker vi direkt till trädgårdsmäs
 san Nordiska Trädgårdar. Kupong (kod) i Hemträdgården nr 2/2023 ger ra
 batterat pris på mäss-entrén.\nMin 40\, ax 50 deltagare.\n\nAnmälan se
 nast 19 mars\n\nBusskostnad: Medlem 185 kr\, icke medlem i mån av plats 2
 60 kr\, betalas efter bekräftelse att resan blir av till VTS Pg 39 29 40-
 3 senast 24 mars.\n\nAnsvarig: Lena Betts 073 938 38 83.
LOCATION:ABB Arena Nord\, Rocklundagatan 1\, Västerås\, 72217\, Sverige
X-APPLE-STRUCTURED-LOCATION;VALUE=URI;X-ADDRESS=Rocklundagatan 1\, Väster
 ås\, 72217\, Sverige;X-APPLE-RADIUS=100;X-TITLE=ABB Arena Nord:geo:0,0
END:VEVENT
END:VCALENDAR