BEGIN:VCALENDAR
VERSION:2.0
PRODID:-//wp-events-plugin.com//6.6.3//EN
TZID:Europe/Stockholm
X-WR-TIMEZONE:Europe/Stockholm
BEGIN:VEVENT
UID:18@testar.vasterastradgard.se.vasterastradgard.se
DTSTART:20190616T061500Z
DTEND:20190616T184500Z
DTSTAMP:20190205T135605Z
URL:https://testar.vasterastradgard.se.vasterastradgard.se/Aktiviteter/bus
 sresa-i-varmland/
SUMMARY:Bussresa i Värmland
DESCRIPTION:\n\nProgram:\n\n 	Första stoppet på resan är hos Connie och 
 Hasse Olsson på Rävåsen i Karlskoga där vi också intar förmiddagskaf
 fe. En kuperade trädgård som är indelad i olika rum med många olika so
 rters perenner\, klätterväxter\, buskar och träd. Gamla växter samsas 
 med moderna. Gräsmattan ersätts successivt med rabatter\, grus- och sten
 gångar.\n 	Vi åker vidare till Ann-Britt Höglunds 5000 kvm stora träd
 gård utanför Karlstad. Det är en samlar trädgård med ett rikt sortime
 nt av träd\, buskar\, barrväxter\, perenner mm. Här fanns lundar\, damm
 ar både färdiga och några stora på gång\, stenpartier\, våtbäddar f
 ör surjordsväxter och olika trädgårdsrum.\n 	Lunchen intar vi på läm
 pligt ställe inför nästa besöksmål.\n 	Vi besöker Stadsträdgården 
 i Karlstad och guidas av Jonas Grund\, Stolpens trädgård. Där finns ca 
 800 olika sorters träd\, buskar och blommor. I parken finns också ett fy
 rtiotal olika exemplar av magnolior. Läs mer på\nhttps://karlstad.se/Upp
 leva-och-gora/Parker-och-lek/Parker-och-gronomraden/Stadstradgarden/\n 	Si
 sta stoppet på resan är på Stolpens trädgård i Kristinehamn. Se hemsi
 dan http://www.stolpenstradgard.se/ Här kan vi handla med 10% rabatt\, dr
 icka eftermiddagskaffe och så småningom starta resan hem.\n 	Sedvanligt 
 lotteri i bussen.\n\nPris: 550 kr för medlem\, 700 kr för icke medlem i 
 mån av plats. Då ingår buss\, lunch och guidning samt för- och eftermi
 ddagsfika. OBS! Resan genomförs endast om minst 40 resenärer deltar! Vi 
 har plats för 50 personer.\n\nAvresa från ABB Arena Nord (Rocklunda) fra
 mför ishockeyhallen\, kl. 07.15.\n\nGratis parkering finns vid ABB Arena 
 Nord (Rocklunda). Beräknad hemkomst ca kl. 19.45.\n\nVälkommen med din a
 nmälan senast den 26 maj\, se nedan \n\nFyll i det formulär som visas o
 ch ange i meddelanderutan om du vill ha någon form av specialkost och om 
 du bokar flera platser anger du namn på medpassagerare. Alla som anmäle
 r sig får en bekräftelse och därefter skall inbetalning ske.\n\nInbetal
 ning 550 kr alternativt 700 kr ska vara insatt på VTS pg 39 29 40-3 senas
 t den 7 juni.\n\nAnsvariga: Ann-Christine Svensson 070 746 88 86 och Beri
 t Karlsson 070 663 15 60.
ATTACH;FMTTYPE=image/jpeg:https://media5.vasterastradgard.se/2016/06/2016-
 06-11-14.40.06.jpg
END:VEVENT
END:VCALENDAR