BEGIN:VCALENDAR
VERSION:2.0
PRODID:-//wp-events-plugin.com//6.6.3//EN
TZID:Europe/Stockholm
X-WR-TIMEZONE:Europe/Stockholm
BEGIN:VEVENT
UID:9@testar.vasterastradgard.se.vasterastradgard.se
DTSTART:20190506T170000Z
DTEND:20190506T170000Z
DTSTAMP:20190214T112611Z
URL:https://testar.vasterastradgard.se.vasterastradgard.se/Aktiviteter/bes
 ok-i-handelstradgard/
SUMMARY:Besök i Handelsträdgård
DESCRIPTION:Per Bürger tar emot oss och berättar om nyheter i sortimentet
 . Vi får 10 % rabatt på hela  sortimentet då vi handlar. Dessutom komm
 er man att plocka fram några extra intressanta varor med ännu bättre pr
 is.\n\nPlats: Bürgers växtgård Barnhemsgatan 54\, Köping.\n\nSamåknin
 g: Kontakta ansvarig minst tre dagar före om du vill samåka.\n\nAvgift: 
 20 kr\n\nAnsvarig: Lena Betts 073 938 38 83
ATTACH;FMTTYPE=image/jpeg:https://media5.vasterastradgard.se/2019/01/mön
 ster-sv-tr-OKTT-webb-kopia-kopia-2-kopia.jpg
END:VEVENT
END:VCALENDAR