BEGIN:VCALENDAR
VERSION:2.0
PRODID:-//wp-events-plugin.com//6.6.3//EN
TZID:Europe/Stockholm
X-WR-TIMEZONE:Europe/Stockholm
BEGIN:VEVENT
UID:11@testar.vasterastradgard.se.vasterastradgard.se
DTSTART:20190514T170000Z
DTEND:20190514T170000Z
DTSTAMP:20190214T112719Z
URL:https://testar.vasterastradgard.se.vasterastradgard.se/Aktiviteter/bes
 ok-i-handelstradgard-2/
SUMMARY:Besök i Handelsträdgård
DESCRIPTION:Prästgårdens sortiment av pelargoner\, fuchsior\, sommarblomm
 or och kryddor är till största delen egenproducerat. Plantorna har fått
  mycket god omvårdnad och är därmed av bra kvalitet\, perfekta för att
  komma till våra olika planteringar. Dessutom finns rikligt med perenner 
 utanför växthusen. Börje Olsson berättar om nyheter och svarar på fr
 ågor. Vi får 10 % rabatt på växter som vi handlar under kvällen.\n\nP
 lats: Prästgårdens Handelsträdgård\, Sörstafors\n\nSamåkning: Kontak
 ta ansvarig minst tre dagar före om du vill samåka.\n\nAvgift: 20 kr\n\n
 Ansvarig: Margareta Pettersson 070 359 16 82
ATTACH;FMTTYPE=image/jpeg:https://media5.vasterastradgard.se/2019/01/mön
 ster-sv-tr-OKTT-webb-kopia-kopia-2-kopia.jpg
END:VEVENT
END:VCALENDAR