BEGIN:VCALENDAR
VERSION:2.0
PRODID:-//wp-events-plugin.com//6.6.3//EN
TZID:Europe/Stockholm
X-WR-TIMEZONE:Europe/Stockholm
BEGIN:VEVENT
UID:26@testar.vasterastradgard.se.vasterastradgard.se
DTSTART:20190925T170000Z
DTEND:20190925T200000Z
DTSTAMP:20190820T102456Z
URL:https://testar.vasterastradgard.se.vasterastradgard.se/Aktiviteter/bel
 ysning-i-tradgarden-2/
SUMMARY:Belysning i trädgården
DESCRIPTION:Håkan Stenström\, trädgårdsarkitekt och projektledare i Kat
 rineholms kommun\, visar\ni en trädgård hur olika belysningar ger olika 
 effekt. Det kan ofta vara svårt att få till belysningen så det blir bra
 . Gränsdragningen mellan lagom och ”tivoli” är svår.\n\nLotteri.\n\
 nPlats: Rönnvägen 10\, Västerås\n\nAvgift: 40 kr inkl. kaffe.\n\nAnsva
 rig: Berit Karlsson 070 663 15 60
ATTACH;FMTTYPE=image/jpeg:https://media5.vasterastradgard.se/2019/01/Träd
 gårdskurs.jpg
END:VEVENT
END:VCALENDAR