BEGIN:VCALENDAR
VERSION:2.0
PRODID:-//wp-events-plugin.com//6.6.3//EN
TZID:Europe/Stockholm
X-WR-TIMEZONE:Europe/Stockholm
BEGIN:VEVENT
UID:4@testar.vasterastradgard.se.vasterastradgard.se
DTSTART:20190221T173000Z
DTEND:20190221T173000Z
DTSTAMP:20190204T134022Z
URL:https://testar.vasterastradgard.se.vasterastradgard.se/Aktiviteter/ars
 mote/
SUMMARY: Årsmöte
DESCRIPTION:\nÅrsmötesförhandlingar och därefter kaffe\, lotteri samt f
 öredrag\n\n&nbsp\;\n\n\n\nLennart Urby\, biodlare sedan många år berät
 tar om\n”Pollinerande insekter – hur vi kan rädda dem”\nVad kan vi 
 göra för att behålla de insekter vi har i trädgården och hur kan vi f
 å fler?\n\nLotteri med många fina vinster.\n\nKaffe/te med bulle och kak
 a.\n\nPlats: Ansgarskyrkan\, Pettersbergsgatan 32.\n\nEntré 20 kr/person.
 \n\nTa gärna med en vän.\nMot uppvisande av denna kallelse bjuder VTS v
 ännen på entré.\n\nOBS! Ändrat datum sedan programmet för höst/vinte
 r\n\n&nbsp\;
ATTACH;FMTTYPE=image/jpeg:https://media5.vasterastradgard.se/2017/02/IMG_5
 163-e1531921410825.jpg
END:VEVENT
END:VCALENDAR