BEGIN:VCALENDAR
VERSION:2.0
PRODID:-//wp-events-plugin.com//6.6.3//EN
TZID:Europe/Stockholm
X-WR-TIMEZONE:Europe/Stockholm
BEGIN:VEVENT
UID:43@testar.vasterastradgard.se.vasterastradgard.se
DTSTART:20240222T170000Z
DTEND:20240222T200000Z
DTSTAMP:20240105T104624Z
URL:https://testar.vasterastradgard.se.vasterastradgard.se/Aktiviteter/ars
 mote-5/
SUMMARY:Årsmöte
DESCRIPTION:Plats: Ansgarskyrkan\, Pettersbergsgatan 32.\n\nSe information 
 i vårprogrammet 2024.
ATTACH;FMTTYPE=image/jpeg:https://media5.vasterastradgard.se/2023/12/Arsmo
 tesklubba-minst.jpg
LOCATION:Ansgarskyrkan\, Ansgars gränd 1\, Västerås\, 72463\, Sverige
X-APPLE-STRUCTURED-LOCATION;VALUE=URI;X-ADDRESS=Ansgars gränd 1\, Väster
 ås\, 72463\, Sverige;X-APPLE-RADIUS=100;X-TITLE=Ansgarskyrkan:geo:0,0
END:VEVENT
END:VCALENDAR