BEGIN:VCALENDAR
VERSION:2.0
PRODID:-//wp-events-plugin.com//6.6.3//EN
TZID:Europe/Stockholm
X-WR-TIMEZONE:Europe/Stockholm
BEGIN:VEVENT
UID:31@testar.vasterastradgard.se.vasterastradgard.se
DTSTART:20200220T173000Z
DTEND:20200220T173000Z
DTSTAMP:20191120T094310Z
URL:https://testar.vasterastradgard.se.vasterastradgard.se/Aktiviteter/ars
 mote-4/
SUMMARY:Årsmöte
DESCRIPTION:Årsmötesförhandlingar och därefter kaffe och lotteri.\n\nIn
 ger Ekrem\, förbundsdirektör i RST\, föreläser om ”Invasiva växter
 ”.
ATTACH;FMTTYPE=image/jpeg:https://media5.vasterastradgard.se/2019/08/Årsm
 ötesklubba.jpg
END:VEVENT
END:VCALENDAR