BEGIN:VCALENDAR
VERSION:2.0
PRODID:-//wp-events-plugin.com//6.6.3//EN
TZID:Europe/Stockholm
X-WR-TIMEZONE:Europe/Stockholm
BEGIN:VEVENT
UID:35@testar.vasterastradgard.se.vasterastradgard.se
DTSTART:20230223T173000Z
DTEND:20230223T173000Z
DTSTAMP:20221216T130348Z
URL:https://testar.vasterastradgard.se.vasterastradgard.se/Aktiviteter/ars
 mote-2/
SUMMARY:Årsmöte 2023
DESCRIPTION:\n\nÅrsmöte
LOCATION:Ansgarskyrkan\, Ansgars gränd 1\, Västerås\, 72463\, Sverige
X-APPLE-STRUCTURED-LOCATION;VALUE=URI;X-ADDRESS=Ansgars gränd 1\, Väster
 ås\, 72463\, Sverige;X-APPLE-RADIUS=100;X-TITLE=Ansgarskyrkan:geo:0,0
END:VEVENT
END:VCALENDAR