BEGIN:VCALENDAR
VERSION:2.0
PRODID:-//wp-events-plugin.com//6.6.3//EN
TZID:Europe/Stockholm
X-WR-TIMEZONE:Europe/Stockholm
BEGIN:VEVENT
UID:25@testar.vasterastradgard.se.vasterastradgard.se
DTSTART:20190923T120000Z
DTEND:20190926T150000Z
DTSTAMP:20190820T102408Z
URL:https://testar.vasterastradgard.se.vasterastradgard.se/Aktiviteter/app
 elvecka-pa-vallby-2/
SUMMARY:Äppelvecka på Vallby
DESCRIPTION:Öppet måndag 23 sept - torsdag 26 sept kl 13.00 - 16.00.\n\nK
 om och titta på en fruktutställning med över 100 sorter av framförallt
  äpplen men också päron\, plommon och vindruvor. Ta chansen att andas\
 , dofta\, njuta och lära om äpplen.\n\nDe svenska äpplena kan oftast la
 gras längre än många importerade sorter. De har god motståndskraft mot
  sjukdomar\, mognar långsamt och har en härlig arom.\n\nFrukten samlas i
 n i Västerås med omnejd.\n\nÄppeldagarna arrangeras i samarbete med Val
 lby Friluftsmuseum.\n\nObservera ingen sortbestämning  under äppelvecka
 n. \n\nIngen avgift.\n\n\nPlats: Vallby Friluftsmuseum\, Missionshuset\n\
 nAnsvarig: Ann-Sofi Freyhult 073 977 79 37
ATTACH;FMTTYPE=image/jpeg:https://media5.vasterastradgard.se/2018/07/2015-
 09-19-09.50.16-e1531923397789.jpg
END:VEVENT
END:VCALENDAR