BEGIN:VCALENDAR
VERSION:2.0
PRODID:-//wp-events-plugin.com//6.6.3//EN
TZID:Europe/Stockholm
X-WR-TIMEZONE:Europe/Stockholm
BEGIN:VEVENT
UID:24@testar.vasterastradgard.se.vasterastradgard.se
DTSTART:20190921T100000Z
DTEND:20190922T150000Z
DTSTAMP:20190820T102347Z
URL:https://testar.vasterastradgard.se.vasterastradgard.se/Aktiviteter/app
 eldagar-pa-vallby-3/
SUMMARY:Äppeldagar på Vallby
DESCRIPTION:Upplev en fruktutställning med över 100 olika sorter av äppl
 en\, päron\, plommon och vindruvor. Ta chansen att andas\, dofta\, njuta 
 och lära om äpplen.\n\nDe svenska äpplena kan oftast lagras längre än
  många importerade sorter. De har god motståndskraft mot sjukdomar\, mog
 nar långsamt och har en härlig arom.\n\nFrukten samlas in i Västerås m
 ed omnejd av VTS.\n\nSortbestämning lördag – söndag kl. 11.00 – 13.
 00.\nAvgift 20 kr per sort. Ta med 5 äpplen av samma sort för bestämnin
 g.\nMax 5 sorter per person.\n\n\nI övrigt ingen avgift.\n\n\nPlats: Vall
 by Friluftsmuseum\, Missionshuset\n\nAnsvarig: Ann-Sofi Freyhult 073-977 7
 9 37
ATTACH;FMTTYPE=image/jpeg:https://media5.vasterastradgard.se/2018/07/2015-
 09-19-09.50.16-e1531923397789.jpg
END:VEVENT
END:VCALENDAR